BEGIN:VCALENDAR
VERSION:2.0
PRODID:-//Tukios.com/
BEGIN:VEVENT
UID:e0392b64-70c5-4514-a5bf-ee8f3df4fbc2@www.finkfh.com
DTSTAMP:20260424T010659Z
DTSTART:20260427T180000Z
DTEND:20260427T183000Z
SUMMARY:Graveside Service
DESCRIPTION:
URL:https://www.finkfh.com/obituaries/raymond-tonder
LOCATION:Our Lady of the Fields Catholic Church Cemetery 1070 Cecil Ave 
	South  Millersville  21108
GEO:39.0506575;-76.651505
END:VEVENT
END:VCALENDAR