BEGIN:VCALENDAR
VERSION:2.0
PRODID:-//Tukios.com/
BEGIN:VEVENT
UID:d9155ea5-4c22-4812-9347-0d3efdcfa93c@www.finkfh.com
DTSTAMP:20260424T010251Z
DTSTART:20260426T190000Z
DTEND:20260426T210000Z
SUMMARY:Visitation
DESCRIPTION:
URL:https://www.finkfh.com/obituaries/raymond-tonder
LOCATION: 426 Crain Hwy  Glen Burnie MD 21061
GEO:39.1582285;-76.6291641
END:VEVENT
END:VCALENDAR